BEGIN:VCALENDAR
VERSION:2.0
PRODID:-//Blaydon &amp; District Scouts - ECPv6.15.20//NONSGML v1.0//EN
CALSCALE:GREGORIAN
METHOD:PUBLISH
X-WR-CALNAME:Blaydon &amp; District Scouts
X-ORIGINAL-URL:https://blaydondistrict.org.uk
X-WR-CALDESC:Events for Blaydon &amp; District Scouts
REFRESH-INTERVAL;VALUE=DURATION:PT1H
X-Robots-Tag:noindex
X-PUBLISHED-TTL:PT1H
BEGIN:VTIMEZONE
TZID:Europe/London
BEGIN:DAYLIGHT
TZOFFSETFROM:+0000
TZOFFSETTO:+0100
TZNAME:BST
DTSTART:20230326T010000
END:DAYLIGHT
BEGIN:STANDARD
TZOFFSETFROM:+0100
TZOFFSETTO:+0000
TZNAME:GMT
DTSTART:20231029T010000
END:STANDARD
BEGIN:DAYLIGHT
TZOFFSETFROM:+0000
TZOFFSETTO:+0100
TZNAME:BST
DTSTART:20240331T010000
END:DAYLIGHT
BEGIN:STANDARD
TZOFFSETFROM:+0100
TZOFFSETTO:+0000
TZNAME:GMT
DTSTART:20241027T010000
END:STANDARD
BEGIN:DAYLIGHT
TZOFFSETFROM:+0000
TZOFFSETTO:+0100
TZNAME:BST
DTSTART:20250330T010000
END:DAYLIGHT
BEGIN:STANDARD
TZOFFSETFROM:+0100
TZOFFSETTO:+0000
TZNAME:GMT
DTSTART:20251026T010000
END:STANDARD
BEGIN:DAYLIGHT
TZOFFSETFROM:+0000
TZOFFSETTO:+0100
TZNAME:BST
DTSTART:20260329T010000
END:DAYLIGHT
BEGIN:STANDARD
TZOFFSETFROM:+0100
TZOFFSETTO:+0000
TZNAME:GMT
DTSTART:20261025T010000
END:STANDARD
BEGIN:DAYLIGHT
TZOFFSETFROM:+0000
TZOFFSETTO:+0100
TZNAME:BST
DTSTART:20270328T010000
END:DAYLIGHT
BEGIN:STANDARD
TZOFFSETFROM:+0100
TZOFFSETTO:+0000
TZNAME:GMT
DTSTART:20271031T010000
END:STANDARD
END:VTIMEZONE
BEGIN:VEVENT
DTSTART;VALUE=DATE:20260419
DTEND;VALUE=DATE:20260420
DTSTAMP:20260423T223828
CREATED:20260223T121659Z
LAST-MODIFIED:20260223T121743Z
UID:14100-1776556800-1776643199@blaydondistrict.org.uk
SUMMARY:Scouts First Aid Competition 2026
DESCRIPTION:
URL:https://blaydondistrict.org.uk/event/scouts-first-aid-competition-2026/
LOCATION:Blanchland
CATEGORIES:Scouts
ATTACH;FMTTYPE=image/png:https://blaydondistrict.org.uk/wp-content/uploads/2025/11/firstAidCompCover.png
END:VEVENT
BEGIN:VEVENT
DTSTART;TZID=Europe/London:20260417T080000
DTEND;TZID=Europe/London:20260419T170000
DTSTAMP:20260423T223828
CREATED:20260122T111639Z
LAST-MODIFIED:20260122T111639Z
UID:14069-1776412800-1776618000@blaydondistrict.org.uk
SUMMARY:Silver Qualy DofE 2026
DESCRIPTION:
URL:https://blaydondistrict.org.uk/event/silver-qualy-dofe-2026/
CATEGORIES:DofE
END:VEVENT
BEGIN:VEVENT
DTSTART;VALUE=DATE:20260327
DTEND;VALUE=DATE:20260330
DTSTAMP:20260423T223828
CREATED:20260218T142903Z
LAST-MODIFIED:20260218T142903Z
UID:14088-1774569600-1774828799@blaydondistrict.org.uk
SUMMARY:Geoffrey Gordon Cup 2026
DESCRIPTION:
URL:https://blaydondistrict.org.uk/event/geoffrey-gordon-cup-2026/
CATEGORIES:Explorers
ATTACH;FMTTYPE=image/jpeg:https://blaydondistrict.org.uk/wp-content/uploads/2026/02/326962498_1328399898010523_7148238463960245331_n.jpg
END:VEVENT
BEGIN:VEVENT
DTSTART;TZID=Europe/London:20260307T100000
DTEND;TZID=Europe/London:20260307T120000
DTSTAMP:20260423T223828
CREATED:20260218T142442Z
LAST-MODIFIED:20260218T142442Z
UID:14082-1772877600-1772884800@blaydondistrict.org.uk
SUMMARY:1st Ryton Coffee Morning
DESCRIPTION:
URL:https://blaydondistrict.org.uk/event/1st-ryton-coffee-morning/
LOCATION:Ryton Methodist Church\, Grange Road\, Ryton\, Tyne & Wear\, NE40 3LU\, United Kingdom
CATEGORIES:Adult Events
ATTACH;FMTTYPE=image/png:https://blaydondistrict.org.uk/wp-content/uploads/2026/02/c47ce629-1.png
END:VEVENT
BEGIN:VEVENT
DTSTART;TZID=Europe/London:20260215T130000
DTEND;TZID=Europe/London:20260215T160000
DTSTAMP:20260423T223828
CREATED:20260218T142708Z
LAST-MODIFIED:20260218T142708Z
UID:14086-1771160400-1771171200@blaydondistrict.org.uk
SUMMARY:Cub Winter Walk 2026
DESCRIPTION:Cubs from across the district are coming together for a winter walk. Starting at Clara Vale\, we’ll finish at Prudhoe Riverside Park.
URL:https://blaydondistrict.org.uk/event/cub-winter-walk-2026/
CATEGORIES:Cubs
END:VEVENT
BEGIN:VEVENT
DTSTART;TZID=Europe/London:20260112T190000
DTEND;TZID=Europe/London:20260112T200000
DTSTAMP:20260423T223828
CREATED:20251218T151951Z
LAST-MODIFIED:20251218T151951Z
UID:14066-1768244400-1768248000@blaydondistrict.org.uk
SUMMARY:DofE - Welcome to Bronze
DESCRIPTION:We’re holding a Bronze DofE welcome session on Monday 12th January. This will be held virtually on a Microsoft Teams call. \n\nWhen: Monday 12th January – 7pm – 8pm.\nWho: This call is for anyone who has registered for Bronze\, or has an interest in registering. Parents and Young People encouraged to join.\nWhy: A quick getting started session\, with a presentation about the scheme and what you need to do.\nLink: Teams Meeting
URL:https://blaydondistrict.org.uk/event/dofe-welcome-to-bronze/
CATEGORIES:DofE
END:VEVENT
BEGIN:VEVENT
DTSTART;VALUE=DATE:20251011
DTEND;VALUE=DATE:20251013
DTSTAMP:20260423T223828
CREATED:20240923T092529Z
LAST-MODIFIED:20250901T101438Z
UID:13739-1760140800-1760313599@blaydondistrict.org.uk
SUMMARY:Scouts Thunderbird 2025
DESCRIPTION:
URL:https://blaydondistrict.org.uk/event/scouts-thunderbird-2025/
LOCATION:Blanchland
CATEGORIES:Scouts
END:VEVENT
BEGIN:VEVENT
DTSTART;VALUE=DATE:20250829
DTEND;VALUE=DATE:20250901
DTSTAMP:20260423T223828
CREATED:20250323T182208Z
LAST-MODIFIED:20250323T182208Z
UID:13860-1756425600-1756684799@blaydondistrict.org.uk
SUMMARY:Silver DofE Practice
DESCRIPTION:
URL:https://blaydondistrict.org.uk/event/silver-dofe-practice/
LOCATION:Dilston Scout Campsite
CATEGORIES:DofE
END:VEVENT
BEGIN:VEVENT
DTSTART;TZID=Europe/London:20250719T080000
DTEND;TZID=Europe/London:20250722T170000
DTSTAMP:20260423T223828
CREATED:20241113T203709Z
LAST-MODIFIED:20241113T203709Z
UID:13782-1752912000-1753203600@blaydondistrict.org.uk
SUMMARY:Gold DofE (group 2)
DESCRIPTION:
URL:https://blaydondistrict.org.uk/event/gold-dofe-group-2/
CATEGORIES:DofE
END:VEVENT
BEGIN:VEVENT
DTSTART;TZID=Europe/London:20250707T190000
DTEND;TZID=Europe/London:20250707T210000
DTSTAMP:20260423T223828
CREATED:20250616T112555Z
LAST-MODIFIED:20250616T112555Z
UID:13908-1751914800-1751922000@blaydondistrict.org.uk
SUMMARY:July DofE Meeting
DESCRIPTION:
URL:https://blaydondistrict.org.uk/event/july-dofe-meeting/
LOCATION:1st Chopwell Scout Group\, Lenin Terrace\, Chopwell\, Tyne & Wear\, NE17 7EN\, United Kingdom
CATEGORIES:DofE
END:VEVENT
BEGIN:VEVENT
DTSTART;TZID=Europe/London:20250622T120000
DTEND;TZID=Europe/London:20250622T160000
DTSTAMP:20260423T223828
CREATED:20250501T163748Z
LAST-MODIFIED:20250501T163748Z
UID:13869-1750593600-1750608000@blaydondistrict.org.uk
SUMMARY:Paisley Challenge
DESCRIPTION:
URL:https://blaydondistrict.org.uk/event/paisley-challenge/
LOCATION:Chopwell Wood
CATEGORIES:Cubs
END:VEVENT
BEGIN:VEVENT
DTSTART;VALUE=DATE:20250607
DTEND;VALUE=DATE:20250609
DTSTAMP:20260423T223828
CREATED:20240923T092343Z
LAST-MODIFIED:20240923T092343Z
UID:13737-1749254400-1749427199@blaydondistrict.org.uk
SUMMARY:Scouts Kirby Shield 2025
DESCRIPTION:
URL:https://blaydondistrict.org.uk/event/scouts-kirby-shield-2025/
LOCATION:Dilston Scout Campsite
CATEGORIES:Scouts
END:VEVENT
BEGIN:VEVENT
DTSTART;TZID=Europe/London:20250412T080000
DTEND;TZID=Europe/London:20250415T170000
DTSTAMP:20260423T223828
CREATED:20241113T203609Z
LAST-MODIFIED:20241113T203609Z
UID:13779-1744444800-1744736400@blaydondistrict.org.uk
SUMMARY:Gold DofE (group 1)
DESCRIPTION:
URL:https://blaydondistrict.org.uk/event/gold-dofe-group-1/
CATEGORIES:DofE
END:VEVENT
BEGIN:VEVENT
DTSTART;VALUE=DATE:20250406
DTEND;VALUE=DATE:20250407
DTSTAMP:20260423T223828
CREATED:20240923T092300Z
LAST-MODIFIED:20240923T092300Z
UID:13735-1743897600-1743983999@blaydondistrict.org.uk
SUMMARY:Scouts First Aid Competition 2025
DESCRIPTION:
URL:https://blaydondistrict.org.uk/event/scouts-first-aid-competition-2025/
LOCATION:Blanchland
CATEGORIES:Scouts
END:VEVENT
BEGIN:VEVENT
DTSTART;TZID=Europe/London:20250303T190000
DTEND;TZID=Europe/London:20250303T210000
DTSTAMP:20260423T223828
CREATED:20250101T181745Z
LAST-MODIFIED:20250227T134831Z
UID:13823-1741028400-1741035600@blaydondistrict.org.uk
SUMMARY:March DofE
DESCRIPTION:
URL:https://blaydondistrict.org.uk/event/march-dofe/
LOCATION:1st Chopwell Scout Group\, Lenin Terrace\, Chopwell\, Tyne & Wear\, NE17 7EN\, United Kingdom
CATEGORIES:DofE
END:VEVENT
BEGIN:VEVENT
DTSTART;TZID=Europe/London:20250203T190000
DTEND;TZID=Europe/London:20250203T210000
DTSTAMP:20260423T223828
CREATED:20250101T181651Z
LAST-MODIFIED:20250227T134850Z
UID:13820-1738609200-1738616400@blaydondistrict.org.uk
SUMMARY:February DofE
DESCRIPTION:
URL:https://blaydondistrict.org.uk/event/february-dofe/
LOCATION:1st Chopwell Scout Group\, Lenin Terrace\, Chopwell\, Tyne & Wear\, NE17 7EN\, United Kingdom
CATEGORIES:DofE
END:VEVENT
BEGIN:VEVENT
DTSTART;TZID=Europe/London:20250124T190000
DTEND;TZID=Europe/London:20250126T140000
DTSTAMP:20260423T223828
CREATED:20241027T173432Z
LAST-MODIFIED:20241027T173514Z
UID:13774-1737745200-1737900000@blaydondistrict.org.uk
SUMMARY:District Cub Camp
DESCRIPTION:
URL:https://blaydondistrict.org.uk/event/district-cub-camp/
LOCATION:Moor House Adventure Centre
CATEGORIES:Cubs
END:VEVENT
BEGIN:VEVENT
DTSTART;TZID=Europe/London:20241208T160000
DTEND;TZID=Europe/London:20241208T183000
DTSTAMP:20260423T223828
CREATED:20241111T192141Z
LAST-MODIFIED:20241111T192141Z
UID:13777-1733673600-1733682600@blaydondistrict.org.uk
SUMMARY:District Panto Visit
DESCRIPTION:
URL:https://blaydondistrict.org.uk/event/district-panto-visit/
LOCATION:Tyne Theatre & Opera House
CATEGORIES:Multiple Sections
END:VEVENT
BEGIN:VEVENT
DTSTART;TZID=Europe/London:20241007T190000
DTEND;TZID=Europe/London:20241007T200000
DTSTAMP:20260423T223828
CREATED:20240923T092600Z
LAST-MODIFIED:20240923T093547Z
UID:13741-1728327600-1728331200@blaydondistrict.org.uk
SUMMARY:DofE Meeting - October 2024
DESCRIPTION:
URL:https://blaydondistrict.org.uk/event/dofe-meeting-october-2024/
LOCATION:1st Ryton Scout Group
CATEGORIES:DofE
END:VEVENT
BEGIN:VEVENT
DTSTART;VALUE=DATE:20241004
DTEND;VALUE=DATE:20241007
DTSTAMP:20260423T223828
CREATED:20231228T193750Z
LAST-MODIFIED:20231228T193812Z
UID:13415-1728000000-1728259199@blaydondistrict.org.uk
SUMMARY:Confido
DESCRIPTION:
URL:https://blaydondistrict.org.uk/event/confido/
LOCATION:Moor House Adventure Centre
CATEGORIES:Scouts
END:VEVENT
BEGIN:VEVENT
DTSTART;VALUE=DATE:20240928
DTEND;VALUE=DATE:20240930
DTSTAMP:20260423T223828
CREATED:20240107T153851Z
LAST-MODIFIED:20240107T153851Z
UID:13423-1727481600-1727654399@blaydondistrict.org.uk
SUMMARY:Scouts Thunderbird Competition
DESCRIPTION:
URL:https://blaydondistrict.org.uk/event/scouts-thunderbird-competition/
LOCATION:Blanchland
CATEGORIES:Scouts
END:VEVENT
BEGIN:VEVENT
DTSTART;VALUE=DATE:20240920
DTEND;VALUE=DATE:20240923
DTSTAMP:20260423T223828
CREATED:20240506T082940Z
LAST-MODIFIED:20240506T082940Z
UID:13654-1726790400-1727049599@blaydondistrict.org.uk
SUMMARY:Gold Practice Expedition 2024
DESCRIPTION:
URL:https://blaydondistrict.org.uk/event/gold-practice-expedition-2024/
CATEGORIES:DofE
END:VEVENT
BEGIN:VEVENT
DTSTART;TZID=Europe/London:20240911T193000
DTEND;TZID=Europe/London:20240911T203000
DTSTAMP:20260423T223828
CREATED:20240218T090835Z
LAST-MODIFIED:20240905T075044Z
UID:13456-1726083000-1726086600@blaydondistrict.org.uk
SUMMARY:Sectional Support Meeting
DESCRIPTION:
URL:https://blaydondistrict.org.uk/event/sectional-support-meeting/
LOCATION:Winlaton Rugby Club
CATEGORIES:Adult Events
END:VEVENT
BEGIN:VEVENT
DTSTART;TZID=Europe/London:20240902T190000
DTEND;TZID=Europe/London:20240902T203000
DTSTAMP:20260423T223828
CREATED:20240506T083031Z
LAST-MODIFIED:20240506T083031Z
UID:13656-1725303600-1725309000@blaydondistrict.org.uk
SUMMARY:September DofE Meeting (Gold Only)
DESCRIPTION:
URL:https://blaydondistrict.org.uk/event/september-dofe-meeting-gold-only/
LOCATION:1st Ryton Scout Group
CATEGORIES:DofE
END:VEVENT
BEGIN:VEVENT
DTSTART;TZID=Europe/London:20240830T080000
DTEND;TZID=Europe/London:20240901T170000
DTSTAMP:20260423T223828
CREATED:20240218T164514Z
LAST-MODIFIED:20240218T164530Z
UID:13528-1725004800-1725210000@blaydondistrict.org.uk
SUMMARY:Bronze & Silver DofE Qualifying Weekend
DESCRIPTION:
URL:https://blaydondistrict.org.uk/event/bronze-silver-qualifying-weekend/
CATEGORIES:DofE
END:VEVENT
BEGIN:VEVENT
DTSTART;VALUE=DATE:20240706
DTEND;VALUE=DATE:20240707
DTSTAMP:20260423T223828
CREATED:20231228T193624Z
LAST-MODIFIED:20240310T202432Z
UID:13411-1720224000-1720310399@blaydondistrict.org.uk
SUMMARY:Beaver Picnic
DESCRIPTION:
URL:https://blaydondistrict.org.uk/event/beaver-picnic/
LOCATION:Moor House Adventure Centre
CATEGORIES:Beavers
END:VEVENT
BEGIN:VEVENT
DTSTART;TZID=Europe/London:20240701T190000
DTEND;TZID=Europe/London:20240701T203000
DTSTAMP:20260423T223828
CREATED:20240506T082838Z
LAST-MODIFIED:20240506T082838Z
UID:13652-1719860400-1719865800@blaydondistrict.org.uk
SUMMARY:DofE July Meeting
DESCRIPTION:
URL:https://blaydondistrict.org.uk/event/dofe-july-meeting/
LOCATION:1st Ryton Scout Group
CATEGORIES:DofE
END:VEVENT
BEGIN:VEVENT
DTSTART;TZID=Europe/London:20240628T190000
DTEND;TZID=Europe/London:20240630T170000
DTSTAMP:20260423T223828
CREATED:20240218T164414Z
LAST-MODIFIED:20240218T164414Z
UID:13526-1719601200-1719766800@blaydondistrict.org.uk
SUMMARY:Bronze & Silver DofE Practice Weekend
DESCRIPTION:
URL:https://blaydondistrict.org.uk/event/bronze-silver-dofe-practice-weekend/
CATEGORIES:DofE
END:VEVENT
BEGIN:VEVENT
DTSTART;TZID=Europe/London:20240623T120000
DTEND;TZID=Europe/London:20240623T160000
DTSTAMP:20260423T223828
CREATED:20240107T153947Z
LAST-MODIFIED:20240107T153947Z
UID:13425-1719144000-1719158400@blaydondistrict.org.uk
SUMMARY:Cubs Paisley Challenge
DESCRIPTION:
URL:https://blaydondistrict.org.uk/event/cubs-paisley-challenge/
LOCATION:Chopwell Wood
CATEGORIES:Cubs
END:VEVENT
BEGIN:VEVENT
DTSTART;VALUE=DATE:20240608
DTEND;VALUE=DATE:20240610
DTSTAMP:20260423T223828
CREATED:20240107T153812Z
LAST-MODIFIED:20240107T153812Z
UID:13421-1717804800-1717977599@blaydondistrict.org.uk
SUMMARY:Scouts Kirby Shield Competition
DESCRIPTION:
URL:https://blaydondistrict.org.uk/event/scouts-kirby-shield-competition/
LOCATION:Dilston Scout Campsite
CATEGORIES:Scouts
END:VEVENT
END:VCALENDAR