BEGIN:VCALENDAR
VERSION:2.0
PRODID:-//Blaydon &amp; District Scouts - ECPv6.15.20//NONSGML v1.0//EN
CALSCALE:GREGORIAN
METHOD:PUBLISH
X-ORIGINAL-URL:https://blaydondistrict.org.uk
X-WR-CALDESC:Events for Blaydon &amp; District Scouts
REFRESH-INTERVAL;VALUE=DURATION:PT1H
X-Robots-Tag:noindex
X-PUBLISHED-TTL:PT1H
BEGIN:VTIMEZONE
TZID:Europe/London
BEGIN:DAYLIGHT
TZOFFSETFROM:+0000
TZOFFSETTO:+0100
TZNAME:BST
DTSTART:20250330T010000
END:DAYLIGHT
BEGIN:STANDARD
TZOFFSETFROM:+0100
TZOFFSETTO:+0000
TZNAME:GMT
DTSTART:20251026T010000
END:STANDARD
BEGIN:DAYLIGHT
TZOFFSETFROM:+0000
TZOFFSETTO:+0100
TZNAME:BST
DTSTART:20260329T010000
END:DAYLIGHT
BEGIN:STANDARD
TZOFFSETFROM:+0100
TZOFFSETTO:+0000
TZNAME:GMT
DTSTART:20261025T010000
END:STANDARD
BEGIN:DAYLIGHT
TZOFFSETFROM:+0000
TZOFFSETTO:+0100
TZNAME:BST
DTSTART:20270328T010000
END:DAYLIGHT
BEGIN:STANDARD
TZOFFSETFROM:+0100
TZOFFSETTO:+0000
TZNAME:GMT
DTSTART:20271031T010000
END:STANDARD
END:VTIMEZONE
BEGIN:VEVENT
DTSTART;VALUE=DATE:20260613
DTEND;VALUE=DATE:20260615
DTSTAMP:20260423T211419
CREATED:20260223T121942Z
LAST-MODIFIED:20260223T121942Z
UID:14102-1781308800-1781481599@blaydondistrict.org.uk
SUMMARY:Scouts Kirby Shield 2026
DESCRIPTION:
URL:https://blaydondistrict.org.uk/event/scouts-kirby-shield-2026/
LOCATION:Dilston Scout Campsite
CATEGORIES:Scouts
ATTACH;FMTTYPE=image/png:https://blaydondistrict.org.uk/wp-content/uploads/2025/11/kirbyShieldCover.png
END:VEVENT
END:VCALENDAR